BEGIN:VCALENDAR
VERSION:2.0
PRODID:-//Blog de l&#039;IRCAV
CALSCALE:GREGORIAN
METHOD:PUBLISH
X-WR-CALNAME:Blog de l&#039;IRCAV
X-ORIGINAL-URL:https://ircav.fr/event/budapest-fin-de-siecle-the-jewish-issue/
X-WR-CALDESC:Budapest, fin de siècle : The Jewish Issue ?
BEGIN:VEVENT
DTSTART:20191108T000000
DTEND:20191108T000000
SUMMARY:Budapest, fin de siècle : The Jewish Issue ?
DESCRIPTION:Journée d'étude organisée le 8 novembre 2019 à l'Université de Vienne
LOCATION:
END:VEVENT
END:VCALENDAR
