BEGIN:VCALENDAR
VERSION:2.0
PRODID:-//Blog de l&#039;IRCAV
CALSCALE:GREGORIAN
METHOD:PUBLISH
X-WR-CALNAME:Blog de l&#039;IRCAV
X-ORIGINAL-URL:https://ircav.fr/event/penser-le-jeu-penser-avec-le-jeu-les-industries-culturelles-et-le-numerique/
X-WR-CALDESC:Penser le jeu, penser avec le jeu les industries culturelles et le numérique
BEGIN:VEVENT
DTSTART:20120110T000000
DTEND:20120110T000000
SUMMARY:Penser le jeu, penser avec le jeu les industries culturelles et le numérique
DESCRIPTION:Journée organisée le 10 janvier 2012 à l'Université Paris 3
LOCATION:
END:VEVENT
END:VCALENDAR
