BEGIN:VCALENDAR
VERSION:2.0
PRODID:-//Blog de l&#039;IRCAV
CALSCALE:GREGORIAN
METHOD:PUBLISH
X-WR-CALNAME:Blog de l&#039;IRCAV
X-ORIGINAL-URL:https://ircav.fr/event/les-politiques-publiques-du-livre/
X-WR-CALDESC:Les politiques publiques du livre
BEGIN:VEVENT
DTSTART:20121017T000000
DTEND:20121017T000000
SUMMARY:Les politiques publiques du livre
DESCRIPTION:Journée d'étude organisée le 17 octobre 2012 à l'Université Paris 3
LOCATION:
END:VEVENT
END:VCALENDAR
