BEGIN:VCALENDAR
VERSION:2.0
PRODID:-//Blog de l&#039;IRCAV
CALSCALE:GREGORIAN
METHOD:PUBLISH
X-WR-CALNAME:Blog de l&#039;IRCAV
X-ORIGINAL-URL:https://ircav.fr/event/cinema-art-contemporain-3/
X-WR-CALDESC:Cinéma &#038; Art Contemporain 3
BEGIN:VEVENT
DTSTART:20100628T000000
DTEND:20100709T000000
SUMMARY:Cinéma &#038; Art Contemporain 3
DESCRIPTION:Colloque international organisé du 28 juin au 9 juillet 2010 à Paris
LOCATION:
END:VEVENT
END:VCALENDAR
