BEGIN:VCALENDAR
VERSION:2.0
PRODID:-//Blog de l&#039;IRCAV
CALSCALE:GREGORIAN
METHOD:PUBLISH
X-WR-CALNAME:Blog de l&#039;IRCAV
X-ORIGINAL-URL:https://ircav.fr/event/ce-que-nous-font-les-films/
X-WR-CALDESC:Ce que nous font les films
BEGIN:VEVENT
DTSTART:20180523T000000
DTEND:20180524T000000
SUMMARY:Ce que nous font les films
DESCRIPTION:Colloque organisé les 23 et 24 mai 2018 à l'École nationale supérieure Louis Lumière et à la Fémis
LOCATION:
END:VEVENT
END:VCALENDAR
