BEGIN:VCALENDAR
VERSION:2.0
PRODID:-//Blog de l&#039;IRCAV
CALSCALE:GREGORIAN
METHOD:PUBLISH
X-WR-CALNAME:Blog de l&#039;IRCAV
X-ORIGINAL-URL:https://ircav.fr/event/creations-a-lepreuve-de-lexil-de-guerre/
X-WR-CALDESC:Créations à l’épreuve de l’exil de guerre
BEGIN:VEVENT
DTSTART:20230428T000000
DTEND:20230429T000000
SUMMARY:Créations à l’épreuve de l’exil de guerre
DESCRIPTION:Colloque organisé les 28 et 29 avril 2023 à la Maison de la Recherche de la Sorbonne Nouvelle
LOCATION:
END:VEVENT
END:VCALENDAR
