BEGIN:VCALENDAR
VERSION:2.0
PRODID:-//Blog de l&#039;IRCAV
CALSCALE:GREGORIAN
METHOD:PUBLISH
X-WR-CALNAME:Blog de l&#039;IRCAV
X-ORIGINAL-URL:https://ircav.fr/event/le-cinema-des-premiers-temps-au-prisme-de-lavant-garde-enjeux-esthetiques-theoriques-et-historiographiques/
X-WR-CALDESC:Le cinéma des premiers temps au prisme de l&rsquo;avant-garde : enjeux esthétiques, théoriques et historiographiques
BEGIN:VEVENT
DTSTART:20231018T000000
DTEND:20231019T000000
SUMMARY:Le cinéma des premiers temps au prisme de l&rsquo;avant-garde : enjeux esthétiques, théoriques et historiographiques
DESCRIPTION:Colloque international organisé les 18 et 19 octobre 2023 à l'Université Paris Cité / The University of Chicago à Paris
LOCATION:
END:VEVENT
END:VCALENDAR
