BEGIN:VCALENDAR
VERSION:2.0
PRODID:-//Blog de l&#039;IRCAV
CALSCALE:GREGORIAN
METHOD:PUBLISH
X-WR-CALNAME:Blog de l&#039;IRCAV
X-ORIGINAL-URL:https://ircav.fr/event/des-nouveaux-medias-a-lesthetique-artificielle-approches-critiques/
X-WR-CALDESC:Des nouveaux médias à l’esthétique artificielle : approches critiques
BEGIN:VEVENT
DTSTART:20231010T000000
DTEND:20231010T000000
SUMMARY:Des nouveaux médias à l’esthétique artificielle : approches critiques
DESCRIPTION:Conférence de Lev Manovich le 10 octobre 2023 à Paris
LOCATION:
END:VEVENT
END:VCALENDAR
