BEGIN:VCALENDAR
VERSION:2.0
PRODID:-//Blog de l&#039;IRCAV
CALSCALE:GREGORIAN
METHOD:PUBLISH
X-WR-CALNAME:Blog de l&#039;IRCAV
X-ORIGINAL-URL:https://ircav.fr/event/cine-club-cinfil-le-regne-animal-thomas-cailley-2023/
X-WR-CALDESC:Ciné-club Cin&#038;Fil : « Le Règne animal » (Thomas Cailley, 2023)
BEGIN:VEVENT
DTSTART:20240609T000000
DTEND:20240609T000000
SUMMARY:Ciné-club Cin&#038;Fil : « Le Règne animal » (Thomas Cailley, 2023)
DESCRIPTION:Rencontre-projection le 9 juin 2024 au cinéma Grand Action à Paris
LOCATION:
END:VEVENT
END:VCALENDAR
