BEGIN:VCALENDAR
VERSION:2.0
PRODID:-//Blog de l&#039;IRCAV
CALSCALE:GREGORIAN
METHOD:PUBLISH
X-WR-CALNAME:Blog de l&#039;IRCAV
X-ORIGINAL-URL:https://ircav.fr/event/linconscient-numerique-the-digital-unconscious/
X-WR-CALDESC:L’inconscient numérique / The Digital Unconscious
BEGIN:VEVENT
DTSTART:20240904T000000
DTEND:20240906T000000
SUMMARY:L’inconscient numérique / The Digital Unconscious
DESCRIPTION:Colloque organisé du 4 au 6 septembre 2024 à l'Université de Chicago
LOCATION:
END:VEVENT
END:VCALENDAR
