BEGIN:VCALENDAR
VERSION:2.0
PRODID:-//Blog de l&#039;IRCAV
CALSCALE:GREGORIAN
METHOD:PUBLISH
X-WR-CALNAME:Blog de l&#039;IRCAV
X-ORIGINAL-URL:https://ircav.fr/event/cine-club-cinfil-jackie-pablo-larrain-2016/
X-WR-CALDESC:Ciné-club Cin&#038;Fil : « Jackie » (Pablo Larraín, 2016)
BEGIN:VEVENT
DTSTART:20240922T000000
DTEND:20240922T000000
SUMMARY:Ciné-club Cin&#038;Fil : « Jackie » (Pablo Larraín, 2016)
DESCRIPTION:Rencontre-projection le 22 septembre 2024 au cinéma Grand Action à Paris

LOCATION:
END:VEVENT
END:VCALENDAR
