BEGIN:VCALENDAR
VERSION:2.0
PRODID:-//Blog de l&#039;IRCAV
CALSCALE:GREGORIAN
METHOD:PUBLISH
X-WR-CALNAME:Blog de l&#039;IRCAV
X-ORIGINAL-URL:https://ircav.fr/event/filmer-lennemi-ethique-politique-et-esthetique-du-documentaire-master-class-avec-marcelo-pedroso/
X-WR-CALDESC:« Filmer l&rsquo;ennemi : éthique, politique et esthétique du documentaire » : Master class avec Marcelo Pedroso
BEGIN:VEVENT
DTSTART:20241007T170000
DTEND:20241007T190000
SUMMARY:« Filmer l&rsquo;ennemi : éthique, politique et esthétique du documentaire » : Master class avec Marcelo Pedroso
DESCRIPTION:Master class organisée le 7 octobre 2024 à la Sorbonne Nouvelle - Campus Nation
LOCATION:
END:VEVENT
END:VCALENDAR
