BEGIN:VCALENDAR
VERSION:2.0
PRODID:-//Blog de l&#039;IRCAV
CALSCALE:GREGORIAN
METHOD:PUBLISH
X-WR-CALNAME:Blog de l&#039;IRCAV
X-ORIGINAL-URL:https://ircav.fr/event/cycle-de-films-et-journee-detudes-cinema-soudanais-defis-et-resiliences/
X-WR-CALDESC:Cycle de films et journée d&rsquo;études « Cinéma soudanais : défis et résiliences »
BEGIN:VEVENT
DTSTART:20250327T000000
DTEND:20250330T000000
SUMMARY:Cycle de films et journée d&rsquo;études « Cinéma soudanais : défis et résiliences »
DESCRIPTION:Cycle de films et journée d'études organisés du 27 au 30 mars 2025 à la FMSH, à la Maison de la Recherche et à la Cinémathèque universitaire de la Sorbonne Nouvelle et au cinéma Le Grand Action à Paris. 
LOCATION:
END:VEVENT
END:VCALENDAR
