BEGIN:VCALENDAR
VERSION:2.0
PRODID:-//Blog de l&#039;IRCAV
CALSCALE:GREGORIAN
METHOD:PUBLISH
X-WR-CALNAME:Blog de l&#039;IRCAV
X-ORIGINAL-URL:https://ircav.fr/event/couper-generer-le-montage-a-lepreuve-de-lia/
X-WR-CALDESC:COUPER/GÉNÉRER. Le montage à l’épreuve de l’IA
BEGIN:VEVENT
DTSTART:20250424T000000
DTEND:20250426T000000
SUMMARY:COUPER/GÉNÉRER. Le montage à l’épreuve de l’IA
DESCRIPTION:Colloque international organisé les 24, 25 et 26 avril à la Maison de la recherche de l'Université Sorbonne Nouvelle (IRCAV, LIRA, IUF, La Fémis)
LOCATION:
END:VEVENT
END:VCALENDAR
