BEGIN:VCALENDAR
VERSION:2.0
PRODID:-//Blog de l&#039;IRCAV
CALSCALE:GREGORIAN
METHOD:PUBLISH
X-WR-CALNAME:Blog de l&#039;IRCAV
X-ORIGINAL-URL:https://ircav.fr/event/recreer-lorient-circulations-et-imaginaires-transnationaux/
X-WR-CALDESC:Recréer l’Orient : circulations et imaginaires transnationaux
BEGIN:VEVENT
DTSTART:20260505T000000
DTEND:20260505T000000
SUMMARY:Recréer l’Orient : circulations et imaginaires transnationaux
DESCRIPTION:Colloque le 5 mai 2026 en salle Athéna de la Maison de la recherche de la Sorbonne Nouvelle.
LOCATION:Maison de la recherche de la Sorbonne Nouvelle - Salle Athéna - 4, rue des Irlandais 75005 Paris
END:VEVENT
END:VCALENDAR
